BEGIN:VCALENDAR
VERSION:2.0
PRODID:-//Wisconsin State Laboratory of Hygiene - ECPv6.15.17.1//NONSGML v1.0//EN
CALSCALE:GREGORIAN
METHOD:PUBLISH
X-WR-CALNAME:Wisconsin State Laboratory of Hygiene
X-ORIGINAL-URL:https://www.slh.wisc.edu
X-WR-CALDESC:Events for Wisconsin State Laboratory of Hygiene
REFRESH-INTERVAL;VALUE=DURATION:PT1H
X-Robots-Tag:noindex
X-PUBLISHED-TTL:PT1H
BEGIN:VTIMEZONE
TZID:America/Chicago
BEGIN:DAYLIGHT
TZOFFSETFROM:-0600
TZOFFSETTO:-0500
TZNAME:CDT
DTSTART:20250309T080000
END:DAYLIGHT
BEGIN:STANDARD
TZOFFSETFROM:-0500
TZOFFSETTO:-0600
TZNAME:CST
DTSTART:20251102T070000
END:STANDARD
BEGIN:DAYLIGHT
TZOFFSETFROM:-0600
TZOFFSETTO:-0500
TZNAME:CDT
DTSTART:20260308T080000
END:DAYLIGHT
BEGIN:STANDARD
TZOFFSETFROM:-0500
TZOFFSETTO:-0600
TZNAME:CST
DTSTART:20261101T070000
END:STANDARD
BEGIN:DAYLIGHT
TZOFFSETFROM:-0600
TZOFFSETTO:-0500
TZNAME:CDT
DTSTART:20270314T080000
END:DAYLIGHT
BEGIN:STANDARD
TZOFFSETFROM:-0500
TZOFFSETTO:-0600
TZNAME:CST
DTSTART:20271107T070000
END:STANDARD
END:VTIMEZONE
BEGIN:VEVENT
DTSTART;TZID=America/Chicago:20260107T120000
DTEND;TZID=America/Chicago:20260107T130000
DTSTAMP:20260424T115519
CREATED:20251216T161645Z
LAST-MODIFIED:20260324T180549Z
UID:51011-1767787200-1767790800@www.slh.wisc.edu
SUMMARY:WCLN Webinar - Practical Overview of CLSI M35-A2 Document for Same-day Identification of Bacteria and Yeast
DESCRIPTION:Practical Overview of CLSI M35-A2 Document for Same-day Identification of Bacteria and Yeast\n  \nPresenter: \n\nErik Munson\, PhD\, D(ABMM)\, WCLN Laboratory Technical Advisory Group Member\n\nDescription of Session: \nThis live webinar seeks to accomplish two goals:  1) provide foundational training in entry-level clinical microbiology laboratory skills; and\, 2) translate these skills into guidance relative to the identification of several medically-significant pathogens frequently encountered in the clinical microbiology laboratory\, per literature published by Clinical and Laboratory Standards Institute (CLSI).  Basis for the presentation will be the CLSI M35-A2 document “Abbreviated Identification of Bacteria and Yeast”.  A multimedia format seeks to demonstrate colony morphology (including hemolysis)\, cell morphology\, and bench-level rapid testing and observations for a number of these pathogens. \n  \nA certificate of participation will be granted to each participant based on 1.0 contact hours of instruction toward credit. \nThis program is sponsored by the WSLH\, which is an approved provider of continuing education programs in the clinical laboratory sciences by the ASCLS P.A.C.E. program. \nAs part of the new P.A.C.E. continuing education process\, please go to the ASCLS CE Organizer web site to print your P.A.C.E. certificates. You will search for the Wisconsin State Lab of Hygiene programs under the “Other P.A.C.E. Programs” tab on the ASCLS CE Organizer web site. You will be asked for a code number to print the certificate. We will provide you this number during the webinar. \nPlease note that the deadline for receiving P.A.C.E. education credit for this webinar is January 7th\, 2027.\n \nMaterials:\n\n Practical Overview of CLSI M35-A2 Document for Same-day Identification of Bacteria and Yeast – Part One: Basic Skills – Presentation\nWCLN Webinar – Practical Overview of CLSI M35-A2 Document for Same-day Identification of Bacteria and Yeast – Part One: Basic Skills\n Practical Overview of CLSI M35-A2 Document for Same-day Identification of Bacteria and Yeast – Part Two – Presentation\nWCLN Webinar – Practical Overview of CLSI M35-A2 Document for Same-day Identification of Bacteria and Yeast – Part Two
URL:https://www.slh.wisc.edu/event/wcln-webinar-practical-overview-of-clsi-m35-a2-document-for-same-day-identification-of-bacteria-and-yeast/
CATEGORIES:Past WSLH Sponsored Events,WCLN Teleconference
END:VEVENT
END:VCALENDAR