BEGIN:VCALENDAR
VERSION:2.0
PRODID:-//Wisconsin State Laboratory of Hygiene - ECPv6.15.17.1//NONSGML v1.0//EN
CALSCALE:GREGORIAN
METHOD:PUBLISH
X-ORIGINAL-URL:https://www.slh.wisc.edu
X-WR-CALDESC:Events for Wisconsin State Laboratory of Hygiene
REFRESH-INTERVAL;VALUE=DURATION:PT1H
X-Robots-Tag:noindex
X-PUBLISHED-TTL:PT1H
BEGIN:VTIMEZONE
TZID:America/Chicago
BEGIN:DAYLIGHT
TZOFFSETFROM:-0600
TZOFFSETTO:-0500
TZNAME:CDT
DTSTART:20220313T080000
END:DAYLIGHT
BEGIN:STANDARD
TZOFFSETFROM:-0500
TZOFFSETTO:-0600
TZNAME:CST
DTSTART:20221106T070000
END:STANDARD
BEGIN:DAYLIGHT
TZOFFSETFROM:-0600
TZOFFSETTO:-0500
TZNAME:CDT
DTSTART:20230312T080000
END:DAYLIGHT
BEGIN:STANDARD
TZOFFSETFROM:-0500
TZOFFSETTO:-0600
TZNAME:CST
DTSTART:20231105T070000
END:STANDARD
BEGIN:DAYLIGHT
TZOFFSETFROM:-0600
TZOFFSETTO:-0500
TZNAME:CDT
DTSTART:20240310T080000
END:DAYLIGHT
BEGIN:STANDARD
TZOFFSETFROM:-0500
TZOFFSETTO:-0600
TZNAME:CST
DTSTART:20241103T070000
END:STANDARD
END:VTIMEZONE
BEGIN:VEVENT
DTSTART;TZID=America/Chicago:20230921T120000
DTEND;TZID=America/Chicago:20230921T130000
DTSTAMP:20260425T055358
CREATED:20230807T151934Z
LAST-MODIFIED:20231003T191604Z
UID:45567-1695297600-1695301200@www.slh.wisc.edu
SUMMARY:WCLN Webinar - 2023-2024 Respiratory Virus Season Update
DESCRIPTION:2023-2024 Respiratory Virus Season Update\n  \nPresenters: \n\nAllen Bateman\, Ph.D.\, D(ABMM)\, Director of Communicable Disease Division\, Wisconsin State Laboratory of Hygiene\nErika Hansen\, M.S.\, Virology Lead\, Communicable Disease Division\, Wisconsin State Laboratory of Hygiene\n\nDescription of Session: \nThis webinar will provide a review of the 2022 – 2023 respiratory virus season and will highlight our surveillance strategies and challenges for 2023-2024\, based on our expectations\, for the upcoming respiratory virus season. \nAdditional topics that will be discussed include a background on SARS-CoV-2\, influenza\, and other respiratory pathogen surveillance\, updates on SARS-CoV-2 and influenza vaccine strain components\, updates on SARS-CoV-2 and influenza transmission globally\, information about new RSV vaccines and treatments\, and updates on other respiratory virus activity and surveillance programs. \n  \nA certificate of participation will be granted to each participant based on 1.0 contact hours of instruction toward credit. \nThis program is sponsored by the WSLH\, which is an approved provider of continuing education programs in the clinical laboratory sciences by the ASCLS P.A.C.E. program. \nAs part of the new P.A.C.E. continuing education process\, please go to the ASCLS CE Organizer web site to print your P.A.C.E. certificates. You will search for the Wisconsin State Lab of Hygiene programs under the “Other P.A.C.E. Programs” tab on the ASCLS CE Organizer web site. You will be asked for a code number to print the certificate. We will provide you this number during the webinar. \nPlease note that the deadline for receiving P.A.C.E. education credit for this webinar is September 21st\, 2024.\n \nMaterials:\n\n 2023-2024 Respiratory Virus Season Update – Presentation\nWCLN Webinar – 2023-2024 Respiratory Virus Season Update
URL:https://www.slh.wisc.edu/event/wcln-webinar-2023-2024-respiratory-virus-season-update/
CATEGORIES:Past WSLH Sponsored Events,WCLN Teleconference
END:VEVENT
END:VCALENDAR