BEGIN:VCALENDAR
VERSION:2.0
PRODID:-//Wisconsin State Laboratory of Hygiene - ECPv6.15.17.1//NONSGML v1.0//EN
CALSCALE:GREGORIAN
METHOD:PUBLISH
X-ORIGINAL-URL:https://www.slh.wisc.edu
X-WR-CALDESC:Events for Wisconsin State Laboratory of Hygiene
REFRESH-INTERVAL;VALUE=DURATION:PT1H
X-Robots-Tag:noindex
X-PUBLISHED-TTL:PT1H
BEGIN:VTIMEZONE
TZID:America/Chicago
BEGIN:DAYLIGHT
TZOFFSETFROM:-0600
TZOFFSETTO:-0500
TZNAME:CDT
DTSTART:20230312T080000
END:DAYLIGHT
BEGIN:STANDARD
TZOFFSETFROM:-0500
TZOFFSETTO:-0600
TZNAME:CST
DTSTART:20231105T070000
END:STANDARD
BEGIN:DAYLIGHT
TZOFFSETFROM:-0600
TZOFFSETTO:-0500
TZNAME:CDT
DTSTART:20240310T080000
END:DAYLIGHT
BEGIN:STANDARD
TZOFFSETFROM:-0500
TZOFFSETTO:-0600
TZNAME:CST
DTSTART:20241103T070000
END:STANDARD
BEGIN:DAYLIGHT
TZOFFSETFROM:-0600
TZOFFSETTO:-0500
TZNAME:CDT
DTSTART:20250309T080000
END:DAYLIGHT
BEGIN:STANDARD
TZOFFSETFROM:-0500
TZOFFSETTO:-0600
TZNAME:CST
DTSTART:20251102T070000
END:STANDARD
END:VTIMEZONE
BEGIN:VEVENT
DTSTART;TZID=America/Chicago:20240416T120000
DTEND;TZID=America/Chicago:20240416T130000
DTSTAMP:20260424T185931
CREATED:20240408T144727Z
LAST-MODIFIED:20240429T184211Z
UID:47269-1713268800-1713272400@www.slh.wisc.edu
SUMMARY:WCLN Webinar - 2024 Updates to CLSI M100
DESCRIPTION:2024 Updates to CLSI M100\n  \nPresenter: \n\nErik Munson\, PhD\, D(ABMM)\, is an Assistant Professor at Marquette University in the Department of Medical Laboratory Science and a member of the Wisconsin State Laboratory of Hygiene Laboratory Technical Advisory Group\n\nDescription of Session: \nThe Clinical Laboratory Standards Institute (CLSI) updates the “Performance Standards for Antimicrobial Susceptibility Testing” annually.  It is essential for laboratories to keep up with these annual changes. Dr. Munson will discuss the major changes made to the 2024 M100 34th edition document. \n  \nA certificate of participation will be granted to each participant based on 1.0 contact hours of instruction toward credit. \nThis program is sponsored by the WSLH\, which is an approved provider of continuing education programs in the clinical laboratory sciences by the ASCLS P.A.C.E. program. \nAs part of the new P.A.C.E. continuing education process\, please go to the ASCLS CE Organizer web site to print your P.A.C.E. certificates. You will search for the Wisconsin State Lab of Hygiene programs under the “Other P.A.C.E. Programs” tab on the ASCLS CE Organizer web site. You will be asked for a code number to print the certificate. We will provide you this number during the webinar. \nPlease note that the deadline for receiving P.A.C.E. education credit for this webinar is April 16th\, 2025.\n \nMaterials:\n\n 2024 Updates to CLSI M100 – Presentation\nWCLN Webinar – 2024 Updates to CLSI M100
URL:https://www.slh.wisc.edu/event/wcln-webinar-2024-updates-to-clsi-m100/
CATEGORIES:Past WSLH Sponsored Events,WCLN Teleconference
END:VEVENT
END:VCALENDAR