BEGIN:VCALENDAR
VERSION:2.0
PRODID:-//Wisconsin State Laboratory of Hygiene - ECPv6.15.17.1//NONSGML v1.0//EN
CALSCALE:GREGORIAN
METHOD:PUBLISH
X-WR-CALNAME:Wisconsin State Laboratory of Hygiene
X-ORIGINAL-URL:https://www.slh.wisc.edu
X-WR-CALDESC:Events for Wisconsin State Laboratory of Hygiene
REFRESH-INTERVAL;VALUE=DURATION:PT1H
X-Robots-Tag:noindex
X-PUBLISHED-TTL:PT1H
BEGIN:VTIMEZONE
TZID:America/Chicago
BEGIN:DAYLIGHT
TZOFFSETFROM:-0600
TZOFFSETTO:-0500
TZNAME:CDT
DTSTART:20230312T080000
END:DAYLIGHT
BEGIN:STANDARD
TZOFFSETFROM:-0500
TZOFFSETTO:-0600
TZNAME:CST
DTSTART:20231105T070000
END:STANDARD
BEGIN:DAYLIGHT
TZOFFSETFROM:-0600
TZOFFSETTO:-0500
TZNAME:CDT
DTSTART:20240310T080000
END:DAYLIGHT
BEGIN:STANDARD
TZOFFSETFROM:-0500
TZOFFSETTO:-0600
TZNAME:CST
DTSTART:20241103T070000
END:STANDARD
BEGIN:DAYLIGHT
TZOFFSETFROM:-0600
TZOFFSETTO:-0500
TZNAME:CDT
DTSTART:20250309T080000
END:DAYLIGHT
BEGIN:STANDARD
TZOFFSETFROM:-0500
TZOFFSETTO:-0600
TZNAME:CST
DTSTART:20251102T070000
END:STANDARD
END:VTIMEZONE
BEGIN:VEVENT
DTSTART;TZID=America/Chicago:20240911T080000
DTEND;TZID=America/Chicago:20240911T153000
DTSTAMP:20260422T032610
CREATED:20240809T161130Z
LAST-MODIFIED:20241104T233657Z
UID:48113-1726041600-1726068600@www.slh.wisc.edu
SUMMARY:WCLN 2024 Regional Meetings (9/11)
DESCRIPTION:2024 WCLN Regional Meetings – “The WCLN Joins the Jedi in the Rebel Alliance”\n  \nPresenters:\n\nAllen Bateman\, PhD\, D(ABMM)\, MPH\, Director\, Communicable Disease Division (CDD)\, WSLH\, UW-Madison\nErin Bowles\, BS\, MT(ASCP)\, Clinical Laboratory Network Coordinator\, CDD\, WSLH\, UW-Madison\nLisa Buchinger\, MBA\, MT(ASCP)\, Laboratory Manager\, HSHS St. Vincent Hospital\nBeth Ellinger\, MS\, MPH\, CIC\, Regional Infection Preventionist\, HAI Program\, WDHS\nRebecca LeMay\, MSN\, RN\, Regional Infection Preventionist\, HAI Program\, WDHS\nNicholas Mack\, BS\, Clinical Laboratory Network Outreach Specialist\, CDD\, WSLH\, UW-Madison\nAnna Marciniak\, BS\, MLS(ASCP)\, CIC\, LTC-CIP\, Regional Infection Preventionist\, HAI Program\, WDHS\nErik Munson\, PhD\, D(ABMM)\, Associate Professor\, Marquette University\nDavid Payne\, PhD\, Laboratory Director\, City of Milwaukee Health Department Laboratory\nRenee Pelch\, MS\, MLS(ASCP)\nLynn Roberts\, DVM\, MPH\, Enteric Epidemiologist and SOS Team Coordinator\, BCD\, WDPH\, WDHS\nAlana Sterkel\, PhD\, D(ABMM)\, SM(ASCP)CM\, Associate Director\, CDD\, WSLH\, UW-Madison\n\nDescription:\nThese three one-day regional meetings presented by the Wisconsin State Laboratory of Hygiene (WSLH) offer clinical and public health laboratorians\, infection preventionists\, and state and local public health representatives the chance to strengthen their relationships through networking and discussions on relevant laboratory issues. \nJoin us as we discuss pathogens and events that are impacting the laboratory and our communities. We will provide a review of what we found and learned from our 2023-2024 WSLH surveillance program. We will share and discuss the process of enteric surveillance from an epidemiological perspective to show the value of the clinical laboratory’s participation in enteric surveillance. We will discuss what happens after a clinical laboratory identifies a suspect select agent including exposure assessment\, root cause analysis\, and the importance of repeat risk assessment. We will also share what we do at the WSLH to support your laboratory when we confirm the identification of a select agent. We will have a fun Kahoot quiz with public health trivia. We will hear about STI and GC susceptibility testing. We will discuss what you can do to prepare for the possible loss of electronic LIMS functionality. Finally\, the day wouldn’t be complete without a couple of interesting case studies to test your diagnostic skills. \nA certificate of participation will be granted to each participant based on 6.0 contact hours of instruction toward credit. \nThis program is sponsored by the Wisconsin State Laboratory of Hygiene which is an approved provider of continuing education programs in the clinical laboratory sciences by the ASCLS P.A.C.E. program. \nFor those who attended a WCLN Regional Meeting: \nP.A.C.E credit is available for in month from the date of the live meeting you attended. To obtain your P.A.C.E. credit and to print a certificate\, please go to the ASCLS CE Organizer web site. You will be asked for a code number to print the certificate. This code number was provided at the meeting you attended. Please follow the directions you were provided at the meeting you attended. \nProgram Time Table\nBegin time: 8:00 a.m. End time: 3:30 p.m. Break(s): 10:00 a.m. – 10:15 a.m. and 1:15 p.m. – 1:30 p.m. Lunch: 11:45 a.m. – 12:45 p.m.\n \nMaterials\n\n WCLN 2024 Regional Meeting Brochure\n 1 – Surveillance Droids What News From the Galaxy\n 2 – The Enterics Strike Back\n 3 – Riddles of the Rebellion\n 4 – Sentinels of the Lab Final\n 6 – Balance in the Force – GC Surge and Susceptibilities\n 7- The Downtime Menace\nWCLN 2024 Regional Meetings
URL:https://www.slh.wisc.edu/event/wcln-2024-regional-meetings-9-11/
LOCATION:Holiday Inn Eau Claire South\, 4751 Owen Ayres Court\, Eau Claire\, WI\, 54701\, United States
CATEGORIES:Past WSLH Sponsored Events,WCLN Regional Meeting
END:VEVENT
BEGIN:VEVENT
DTSTART;TZID=America/Chicago:20240912T080000
DTEND;TZID=America/Chicago:20240912T153000
DTSTAMP:20260422T032610
CREATED:20240809T161508Z
LAST-MODIFIED:20241104T233845Z
UID:48116-1726128000-1726155000@www.slh.wisc.edu
SUMMARY:WCLN 2024 Regional Meetings (9/12)
DESCRIPTION:2024 WCLN Regional Meetings – “The WCLN Joins the Jedi in the Rebel Alliance”\n  \nPresenters:\n\nAllen Bateman\, PhD\, D(ABMM)\, MPH\, Director\, Communicable Disease Division (CDD)\, WSLH\, UW-Madison\nErin Bowles\, BS\, MT(ASCP)\, Clinical Laboratory Network Coordinator\, CDD\, WSLH\, UW-Madison\nLisa Buchinger\, MBA\, MT(ASCP)\, Laboratory Manager\, HSHS St. Vincent Hospital\nBeth Ellinger\, MS\, MPH\, CIC\, Regional Infection Preventionist\, HAI Program\, WDHS\nRebecca LeMay\, MSN\, RN\, Regional Infection Preventionist\, HAI Program\, WDHS\nNicholas Mack\, BS\, Clinical Laboratory Network Outreach Specialist\, CDD\, WSLH\, UW-Madison\nAnna Marciniak\, BS\, MLS(ASCP)\, CIC\, LTC-CIP\, Regional Infection Preventionist\, HAI Program\, WDHS\nErik Munson\, PhD\, D(ABMM)\, Associate Professor\, Marquette University\nDavid Payne\, PhD\, Laboratory Director\, City of Milwaukee Health Department Laboratory\nRenee Pelch\, MS\, MLS(ASCP)\nLynn Roberts\, DVM\, MPH\, Enteric Epidemiologist and SOS Team Coordinator\, BCD\, WDPH\, WDHS\nAlana Sterkel\, PhD\, D(ABMM)\, SM(ASCP)CM\, Associate Director\, CDD\, WSLH\, UW-Madison\n\nDescription:\nThese three one-day regional meetings presented by the Wisconsin State Laboratory of Hygiene (WSLH) offer clinical and public health laboratorians\, infection preventionists\, and state and local public health representatives the chance to strengthen their relationships through networking and discussions on relevant laboratory issues. \nJoin us as we discuss pathogens and events that are impacting the laboratory and our communities. We will provide a review of what we found and learned from our 2023-2024 WSLH surveillance program. We will share and discuss the process of enteric surveillance from an epidemiological perspective to show the value of the clinical laboratory’s participation in enteric surveillance. We will discuss what happens after a clinical laboratory identifies a suspect select agent including exposure assessment\, root cause analysis\, and the importance of repeat risk assessment. We will also share what we do at the WSLH to support your laboratory when we confirm the identification of a select agent. We will have a fun Kahoot quiz with public health trivia. We will hear about STI and GC susceptibility testing. We will discuss what you can do to prepare for the possible loss of electronic LIMS functionality. Finally\, the day wouldn’t be complete without a couple of interesting case studies to test your diagnostic skills. \nA certificate of participation will be granted to each participant based on 6.0 contact hours of instruction toward credit. \nThis program is sponsored by the Wisconsin State Laboratory of Hygiene which is an approved provider of continuing education programs in the clinical laboratory sciences by the ASCLS P.A.C.E. program. \nFor those who attended a WCLN Regional Meeting: \nP.A.C.E credit is available for in month from the date of the live meeting you attended. To obtain your P.A.C.E. credit and to print a certificate\, please go to the ASCLS CE Organizer web site. You will be asked for a code number to print the certificate. This code number was provided at the meeting you attended. Please follow the directions you were provided at the meeting you attended. \n  \nProgram Time Table\nBegin time: 8:00 a.m. End time: 3:30 p.m. Break(s): 10:00 a.m. – 10:15 a.m. and 1:15 p.m. – 1:30 p.m. Lunch: 11:45 a.m. – 12:45 p.m.\n \nMaterials\n\n WCLN 2024 Regional Meeting Brochure\n 1 – Surveillance Droids What News From the Galaxy\n 2 – The Enterics Strike Back\n 3 – Riddles of the Rebellion\n 4 – Sentinels of the Lab Final\n 6 – Balance in the Force – GC Surge and Susceptibilities\n 7- The Downtime Menace\nWCLN 2024 Regional Meetings
URL:https://www.slh.wisc.edu/event/wcln-2024-regional-meetings-9-12/
LOCATION:Doubletree by Hilton Neenah\, 123 E Wisconsin Ave\, Neenah\, WI\, 54956\, United States
CATEGORIES:Past WSLH Sponsored Events,WCLN Regional Meeting
END:VEVENT
BEGIN:VEVENT
DTSTART;TZID=America/Chicago:20240917T080000
DTEND;TZID=America/Chicago:20240917T153000
DTSTAMP:20260422T032610
CREATED:20240809T161611Z
LAST-MODIFIED:20241104T233920Z
UID:48119-1726560000-1726587000@www.slh.wisc.edu
SUMMARY:WCLN 2024 Regional Meetings (9/17)
DESCRIPTION:2024 WCLN Regional Meetings – “The WCLN Joins the Jedi in the Rebel Alliance”\n  \nPresenters:\n\nAllen Bateman\, PhD\, D(ABMM)\, MPH\, Director\, Communicable Disease Division (CDD)\, WSLH\, UW-Madison\nErin Bowles\, BS\, MT(ASCP)\, Clinical Laboratory Network Coordinator\, CDD\, WSLH\, UW-Madison\nLisa Buchinger\, MBA\, MT(ASCP)\, Laboratory Manager\, HSHS St. Vincent Hospital\nBeth Ellinger\, MS\, MPH\, CIC\, Regional Infection Preventionist\, HAI Program\, WDHS\nRebecca LeMay\, MSN\, RN\, Regional Infection Preventionist\, HAI Program\, WDHS\nNicholas Mack\, BS\, Clinical Laboratory Network Outreach Specialist\, CDD\, WSLH\, UW-Madison\nAnna Marciniak\, BS\, MLS(ASCP)\, CIC\, LTC-CIP\, Regional Infection Preventionist\, HAI Program\, WDHS\nErik Munson\, PhD\, D(ABMM)\, Associate Professor\, Marquette University\nDavid Payne\, PhD\, Laboratory Director\, City of Milwaukee Health Department Laboratory\nRenee Pelch\, MS\, MLS(ASCP)\nLynn Roberts\, DVM\, MPH\, Enteric Epidemiologist and SOS Team Coordinator\, BCD\, WDPH\, WDHS\nAlana Sterkel\, PhD\, D(ABMM)\, SM(ASCP)CM\, Associate Director\, CDD\, WSLH\, UW-Madison\n\nDescription:\nThese three one-day regional meetings presented by the Wisconsin State Laboratory of Hygiene (WSLH) offer clinical and public health laboratorians\, infection preventionists\, and state and local public health representatives the chance to strengthen their relationships through networking and discussions on relevant laboratory issues. \nJoin us as we discuss pathogens and events that are impacting the laboratory and our communities. We will provide a review of what we found and learned from our 2023-2024 WSLH surveillance program. We will share and discuss the process of enteric surveillance from an epidemiological perspective to show the value of the clinical laboratory’s participation in enteric surveillance. We will discuss what happens after a clinical laboratory identifies a suspect select agent including exposure assessment\, root cause analysis\, and the importance of repeat risk assessment. We will also share what we do at the WSLH to support your laboratory when we confirm the identification of a select agent. We will have a fun Kahoot quiz with public health trivia. We will hear about STI and GC susceptibility testing. We will discuss what you can do to prepare for the possible loss of electronic LIMS functionality. Finally\, the day wouldn’t be complete without a couple of interesting case studies to test your diagnostic skills. \nA certificate of participation will be granted to each participant based on 6.0 contact hours of instruction toward credit. \nThis program is sponsored by the Wisconsin State Laboratory of Hygiene which is an approved provider of continuing education programs in the clinical laboratory sciences by the ASCLS P.A.C.E. program. \nFor those who attended a WCLN Regional Meeting: \nP.A.C.E credit is available for in month from the date of the live meeting you attended. To obtain your P.A.C.E. credit and to print a certificate\, please go to the ASCLS CE Organizer web site. You will be asked for a code number to print the certificate. This code number was provided at the meeting you attended. Please follow the directions you were provided at the meeting you attended. \nFor those who would like PACE credit for listening to the recording of the 9/17/24 Regional meeting: \nP.A.C.E credit is available for one year until 9/17/25 for those who listen to the recording of the 9/17/24 WCLN Regional Meeting. You must listen to the entire morning and/or afternoon session(s) to apply for credit and to print a certificate. To obtain your P.A.C.E. credit and to print a certificate\, please go to the ASCLS CE Organizer web site. You will be asked for a code number to print the certificate. A code number was provided in the recordings for both the morning and afternoon sessions. \n  \nProgram Time Table\nBegin time: 8:00 a.m. End time: 3:30 p.m. Break(s): 10:00 a.m. – 10:15 a.m. and 1:15 p.m. – 1:30 p.m. Lunch: 11:45 a.m. – 12:45 p.m.\n \nMaterials\n\n WCLN 2024 Regional Meeting Brochure\n 1 – Surveillance Droids What News From the Galaxy\n 2 – The Enterics Strike Back\n 3 – Riddles of the Rebellion\n 4 – Sentinels of the Lab Final\n 6 – Balance in the Force – GC Surge and Susceptibilities\n 7- The Downtime Menace\nWCLN 2024 Regional Meetings
URL:https://www.slh.wisc.edu/event/wcln-2024-regional-meetings-9-17/
LOCATION:Holiday Inn Madison at The American Center\, 5109 W. Terrace Dr\, Madison\, WI\, 53718\, United States
CATEGORIES:Past WSLH Sponsored Events,WCLN Regional Meeting
END:VEVENT
END:VCALENDAR