BEGIN:VCALENDAR
VERSION:2.0
PRODID:-//Wisconsin State Laboratory of Hygiene - ECPv6.15.17.1//NONSGML v1.0//EN
CALSCALE:GREGORIAN
METHOD:PUBLISH
X-ORIGINAL-URL:https://www.slh.wisc.edu
X-WR-CALDESC:Events for Wisconsin State Laboratory of Hygiene
REFRESH-INTERVAL;VALUE=DURATION:PT1H
X-Robots-Tag:noindex
X-PUBLISHED-TTL:PT1H
BEGIN:VTIMEZONE
TZID:America/Chicago
BEGIN:DAYLIGHT
TZOFFSETFROM:-0600
TZOFFSETTO:-0500
TZNAME:CDT
DTSTART:20230312T080000
END:DAYLIGHT
BEGIN:STANDARD
TZOFFSETFROM:-0500
TZOFFSETTO:-0600
TZNAME:CST
DTSTART:20231105T070000
END:STANDARD
BEGIN:DAYLIGHT
TZOFFSETFROM:-0600
TZOFFSETTO:-0500
TZNAME:CDT
DTSTART:20240310T080000
END:DAYLIGHT
BEGIN:STANDARD
TZOFFSETFROM:-0500
TZOFFSETTO:-0600
TZNAME:CST
DTSTART:20241103T070000
END:STANDARD
BEGIN:DAYLIGHT
TZOFFSETFROM:-0600
TZOFFSETTO:-0500
TZNAME:CDT
DTSTART:20250309T080000
END:DAYLIGHT
BEGIN:STANDARD
TZOFFSETFROM:-0500
TZOFFSETTO:-0600
TZNAME:CST
DTSTART:20251102T070000
END:STANDARD
END:VTIMEZONE
BEGIN:VEVENT
DTSTART;TZID=America/Chicago:20241002T120000
DTEND;TZID=America/Chicago:20241002T130000
DTSTAMP:20260422T050133
CREATED:20240827T182104Z
LAST-MODIFIED:20241014T185735Z
UID:48251-1727870400-1727874000@www.slh.wisc.edu
SUMMARY:WCLN Webinar - 2024-2025 Respiratory Virus Season Update
DESCRIPTION:2024-2025 Respiratory Virus Season Update\n  \nPresenter: \n\nAllen Bateman\, Ph.D.\, D(ABMM)\, Director of Communicable Disease Division\, Wisconsin State Laboratory of Hygiene\n\nDescription of Session: \nThis webinar will provide a review of the 2023-2024 respiratory virus season and will highlight our surveillance strategies and challenges for 2024-2025\, based on our expectations\, for the upcoming respiratory virus season. \nAdditional topics that will be discussed include a background on respiratory virus surveillance in Wisconsin and nationwide\, updates on H5N1 avian influenza\, updates on SARS-CoV-2 and influenza vaccine strain components and transmission globally\, and updates on other respiratory virus activity and surveillance programs. \n  \nA certificate of participation will be granted to each participant based on 1.0 contact hours of instruction toward credit. \nThis program is sponsored by the WSLH\, which is an approved provider of continuing education programs in the clinical laboratory sciences by the ASCLS P.A.C.E. program. \nAs part of the new P.A.C.E. continuing education process\, please go to the ASCLS CE Organizer web site to print your P.A.C.E. certificates. You will search for the Wisconsin State Lab of Hygiene programs under the “Other P.A.C.E. Programs” tab on the ASCLS CE Organizer web site. You will be asked for a code number to print the certificate. We will provide you this number during the webinar. \nPlease note that the deadline for receiving P.A.C.E. education credit for this webinar is October 2nd\, 2025.\n \nMaterials:\n\n 2024-2025 Respiratory Virus Season Update – Presentation\nWCLN Webinar – 2024-2025 Respiratory Virus Season Update
URL:https://www.slh.wisc.edu/event/wcln-webinar-2024-2025-respiratory-virus-season-update/
LOCATION:WI
CATEGORIES:Past WSLH Sponsored Events,WCLN Teleconference
END:VEVENT
END:VCALENDAR