BEGIN:VCALENDAR
VERSION:2.0
PRODID:-//Wisconsin State Laboratory of Hygiene - ECPv6.15.17.1//NONSGML v1.0//EN
CALSCALE:GREGORIAN
METHOD:PUBLISH
X-ORIGINAL-URL:https://www.slh.wisc.edu
X-WR-CALDESC:Events for Wisconsin State Laboratory of Hygiene
REFRESH-INTERVAL;VALUE=DURATION:PT1H
X-Robots-Tag:noindex
X-PUBLISHED-TTL:PT1H
BEGIN:VTIMEZONE
TZID:America/Chicago
BEGIN:DAYLIGHT
TZOFFSETFROM:-0600
TZOFFSETTO:-0500
TZNAME:CDT
DTSTART:20240310T080000
END:DAYLIGHT
BEGIN:STANDARD
TZOFFSETFROM:-0500
TZOFFSETTO:-0600
TZNAME:CST
DTSTART:20241103T070000
END:STANDARD
BEGIN:DAYLIGHT
TZOFFSETFROM:-0600
TZOFFSETTO:-0500
TZNAME:CDT
DTSTART:20250309T080000
END:DAYLIGHT
BEGIN:STANDARD
TZOFFSETFROM:-0500
TZOFFSETTO:-0600
TZNAME:CST
DTSTART:20251102T070000
END:STANDARD
BEGIN:DAYLIGHT
TZOFFSETFROM:-0600
TZOFFSETTO:-0500
TZNAME:CDT
DTSTART:20260308T080000
END:DAYLIGHT
BEGIN:STANDARD
TZOFFSETFROM:-0500
TZOFFSETTO:-0600
TZNAME:CST
DTSTART:20261101T070000
END:STANDARD
END:VTIMEZONE
BEGIN:VEVENT
DTSTART;TZID=America/Chicago:20250528T120000
DTEND;TZID=America/Chicago:20250528T130000
DTSTAMP:20260424T123734
CREATED:20250602T195849Z
LAST-MODIFIED:20250611T213712Z
UID:49977-1748433600-1748437200@www.slh.wisc.edu
SUMMARY:WCLN Webinar - Diagnostic Strategies for Arboviral Diseases in Wisconsin
DESCRIPTION:Diagnostic Strategies for Arboviral Diseases in Wisconsin\n  \nPresenter: \n\nRebecca Osborn\, MPH\, Epidemiologist\, Wisconsin Department of Health Services\n\nDescription of Session: \nSpeaker will review the epidemiology of locally transmitted and imported arboviral diseases and provide an overview of laboratory diagnostic recommendations and limitations. \n  \nA certificate of participation will be granted to each participant based on 1.0 contact hours of instruction toward credit. \nThis program is sponsored by the WSLH\, which is an approved provider of continuing education programs in the clinical laboratory sciences by the ASCLS P.A.C.E. program. \nAs part of the new P.A.C.E. continuing education process\, please go to the ASCLS CE Organizer web site to print your P.A.C.E. certificates. You will search for the Wisconsin State Lab of Hygiene programs under the “Other P.A.C.E. Programs” tab on the ASCLS CE Organizer web site. You will be asked for a code number to print the certificate. We will provide you this number during the webinar. \nPlease note that the deadline for receiving P.A.C.E. education credit for this webinar is May 28th\, 2026.\n \nMaterials:\n\n Diagnostic Strategies for Arboviral Diseases in Wisconsin – Presentation\nWCLN Webinar – Diagnostic Strategies for Arboviral Diseases in Wisconsin
URL:https://www.slh.wisc.edu/event/wcln-webinar-diagnostic-strategies-for-arboviral-diseases-in-wisconsin/
LOCATION:WI
CATEGORIES:Past WSLH Sponsored Events,WCLN Teleconference
END:VEVENT
END:VCALENDAR